BEGIN:VCALENDAR
VERSION:2.0
PRODID:-//Reisebüro Bus Point Leipzig - ECPv6.15.20//NONSGML v1.0//EN
CALSCALE:GREGORIAN
METHOD:PUBLISH
X-ORIGINAL-URL:https://buspoint-leipzig.de
X-WR-CALDESC:Veranstaltungen für Reisebüro Bus Point Leipzig
REFRESH-INTERVAL;VALUE=DURATION:PT1H
X-Robots-Tag:noindex
X-PUBLISHED-TTL:PT1H
BEGIN:VTIMEZONE
TZID:Europe/Berlin
BEGIN:DAYLIGHT
TZOFFSETFROM:+0100
TZOFFSETTO:+0200
TZNAME:CEST
DTSTART:20240331T010000
END:DAYLIGHT
BEGIN:STANDARD
TZOFFSETFROM:+0200
TZOFFSETTO:+0100
TZNAME:CET
DTSTART:20241027T010000
END:STANDARD
BEGIN:DAYLIGHT
TZOFFSETFROM:+0100
TZOFFSETTO:+0200
TZNAME:CEST
DTSTART:20250330T010000
END:DAYLIGHT
BEGIN:STANDARD
TZOFFSETFROM:+0200
TZOFFSETTO:+0100
TZNAME:CET
DTSTART:20251026T010000
END:STANDARD
BEGIN:DAYLIGHT
TZOFFSETFROM:+0100
TZOFFSETTO:+0200
TZNAME:CEST
DTSTART:20260329T010000
END:DAYLIGHT
BEGIN:STANDARD
TZOFFSETFROM:+0200
TZOFFSETTO:+0100
TZNAME:CET
DTSTART:20261025T010000
END:STANDARD
BEGIN:DAYLIGHT
TZOFFSETFROM:+0100
TZOFFSETTO:+0200
TZNAME:CEST
DTSTART:20270328T010000
END:DAYLIGHT
BEGIN:STANDARD
TZOFFSETFROM:+0200
TZOFFSETTO:+0100
TZNAME:CET
DTSTART:20271031T010000
END:STANDARD
END:VTIMEZONE
BEGIN:VEVENT
DTSTART;TZID=Europe/Berlin:20260418T080000
DTEND;TZID=Europe/Berlin:20260418T190000
DTSTAMP:20260422T104255
CREATED:20250925T071046Z
LAST-MODIFIED:20250925T071046Z
UID:1137-1776499200-1776538800@buspoint-leipzig.de
SUMMARY:Bad Muskau
DESCRIPTION:Einkaufsfahrt \n25\,00 €
URL:https://buspoint-leipzig.de/event/bad-muskau-7/
CATEGORIES:Tagesfahrten
END:VEVENT
BEGIN:VEVENT
DTSTART;TZID=Europe/Berlin:20260415T090000
DTEND;TZID=Europe/Berlin:20260415T180000
DTSTAMP:20260422T104255
CREATED:20250925T070945Z
LAST-MODIFIED:20250925T070945Z
UID:1135-1776243600-1776276000@buspoint-leipzig.de
SUMMARY:Genussvoller Tag im Gartenreich Wörlitz – Schlossbesuch und Zeit zum Verweilen
DESCRIPTION:inkl. Busfahrt\, Schlossführung\, Mittagessen und Freizeit im Park \n65\,00 €
URL:https://buspoint-leipzig.de/event/genussvoller-tag-im-gartenreich-woerlitz-schlossbesuch-und-zeit-zum-verweilen/
CATEGORIES:Tagesfahrten
END:VEVENT
BEGIN:VEVENT
DTSTART;TZID=Europe/Berlin:20260410T090000
DTEND;TZID=Europe/Berlin:20260410T190000
DTSTAMP:20260422T104255
CREATED:20250925T070802Z
LAST-MODIFIED:20250925T070802Z
UID:1133-1775811600-1775847600@buspoint-leipzig.de
SUMMARY:Blasmusikgenuss mit Barnabas Kunze im Forsthaus Luchsenburg in Ohorn
DESCRIPTION:inkl. Busfahrt\, Mittagessen\, Blasmusik von Barnabas Kunze und Kaffeetrinken \n71\,00 €
URL:https://buspoint-leipzig.de/event/blasmusikgenuss-mit-barnabas-kunze-im-forsthaus-luchsenburg-in-ohorn/
CATEGORIES:Tagesfahrten
END:VEVENT
BEGIN:VEVENT
DTSTART;TZID=Europe/Berlin:20260406T090000
DTEND;TZID=Europe/Berlin:20260406T190000
DTSTAMP:20260422T104255
CREATED:20250925T070412Z
LAST-MODIFIED:20250925T070515Z
UID:1128-1775466000-1775502000@buspoint-leipzig.de
SUMMARY:Ein Tag voller Herzlichkeit\, Musik und Genuss – Osterfest im Event & Hochzeitshotel „Zum Grünen Baum“ in Oelsnitz OT Taltitz
DESCRIPTION: inkl. Busfahrt\, Mittagessen\, 1\,5 h Osterunterhaltungsprogramm und Kaffeetrinken \n76\,00 €
URL:https://buspoint-leipzig.de/event/ein-tag-voller-herzlichkeit-musik-und-genuss-osterfest-im-event-hochzeitshotel-zum-gruenen-baum-in-oelsnitz-ot-taltitz/
CATEGORIES:Tagesfahrten
END:VEVENT
BEGIN:VEVENT
DTSTART;TZID=Europe/Berlin:20260404T070000
DTEND;TZID=Europe/Berlin:20260404T200000
DTSTAMP:20260422T104255
CREATED:20250925T070250Z
LAST-MODIFIED:20250925T070250Z
UID:1126-1775286000-1775332800@buspoint-leipzig.de
SUMMARY:Buntes Frühlingserwachen – Osterbrunnenfahrt in die Fränkische Schweiz
DESCRIPTION:inkl. Busfahrt\, ganztägige Gästeführung Osterbrunnenfahrt Fränkische Schweiz\, Mittagessen und Kaffeetrinken \n70\,00 €
URL:https://buspoint-leipzig.de/event/buntes-fruehlingserwachen-osterbrunnenfahrt-in-die-fraenkische-schweiz/
CATEGORIES:Tagesfahrten
END:VEVENT
BEGIN:VEVENT
DTSTART;TZID=Europe/Berlin:20260402T080000
DTEND;TZID=Europe/Berlin:20260402T180000
DTSTAMP:20260422T104255
CREATED:20250925T070111Z
LAST-MODIFIED:20250925T070111Z
UID:1124-1775116800-1775152800@buspoint-leipzig.de
SUMMARY:Johanngeorgenstadt
DESCRIPTION:Einkaufsfahrt \n24\,00 €
URL:https://buspoint-leipzig.de/event/johanngeorgenstadt-8/
CATEGORIES:Tagesfahrten
END:VEVENT
BEGIN:VEVENT
DTSTART;TZID=Europe/Berlin:20260328T090000
DTEND;TZID=Europe/Berlin:20260328T180000
DTSTAMP:20260422T104255
CREATED:20251111T135636Z
LAST-MODIFIED:20251111T135636Z
UID:1181-1774688400-1774720800@buspoint-leipzig.de
SUMMARY:Gesundheitsbad ACTINON Bad Schlema
DESCRIPTION:inkl. Busfahrt und 3 ½ Stunden Baden \n49\,00 €
URL:https://buspoint-leipzig.de/event/gesundheitsbad-actinon-bad-schlema-2/
CATEGORIES:Tagesfahrten
END:VEVENT
BEGIN:VEVENT
DTSTART;TZID=Europe/Berlin:20260324T093000
DTEND;TZID=Europe/Berlin:20260324T170000
DTSTAMP:20260422T104255
CREATED:20250925T065304Z
LAST-MODIFIED:20250925T065304Z
UID:1122-1774344600-1774371600@buspoint-leipzig.de
SUMMARY:Das schönste Damenschloss in Sachsen – Entdecken Sie mit uns das Barockschloss Delitzsch
DESCRIPTION:inkl. Busfahrt\, Mittagessen\, Stadtführung\, Schlossführung und anschließend Besuch Werksverkauf Schokoladenfabrik \n67\,00 €
URL:https://buspoint-leipzig.de/event/das-schoenste-damenschloss-in-sachsen-entdecken-sie-mit-uns-das-barockschloss-delitzsch/
CATEGORIES:Tagesfahrten
END:VEVENT
BEGIN:VEVENT
DTSTART;TZID=Europe/Berlin:20260321T080000
DTEND;TZID=Europe/Berlin:20260321T190000
DTSTAMP:20260422T104255
CREATED:20250821T074857Z
LAST-MODIFIED:20250821T074857Z
UID:1093-1774080000-1774119600@buspoint-leipzig.de
SUMMARY:Bad Muskau
DESCRIPTION:Einkaufsfahrt \n25\,00 €
URL:https://buspoint-leipzig.de/event/bad-muskau-13/
CATEGORIES:Tagesfahrten
END:VEVENT
BEGIN:VEVENT
DTSTART;TZID=Europe/Berlin:20260320T143000
DTEND;TZID=Europe/Berlin:20260320T230000
DTSTAMP:20260422T104255
CREATED:20251111T134615Z
LAST-MODIFIED:20251111T134615Z
UID:1177-1774017000-1774047600@buspoint-leipzig.de
SUMMARY:„Tom Pauls und die Wilden Zwanziger“ in Pirna
DESCRIPTION:inkl. Busfahrt\, Abendbrot und Eintritt \n98\,00 €
URL:https://buspoint-leipzig.de/event/tom-pauls-und-die-wilden-zwanziger-in-pirna/
CATEGORIES:Tagesfahrten
END:VEVENT
BEGIN:VEVENT
DTSTART;TZID=Europe/Berlin:20260313T080000
DTEND;TZID=Europe/Berlin:20260313T180000
DTSTAMP:20260422T104255
CREATED:20250821T074755Z
LAST-MODIFIED:20250821T074755Z
UID:1091-1773388800-1773424800@buspoint-leipzig.de
SUMMARY:Johanngeorgenstadt
DESCRIPTION:Einkaufsfahrt \n24\,00 €
URL:https://buspoint-leipzig.de/event/johanngeorgenstadt-12/
CATEGORIES:Tagesfahrten
END:VEVENT
BEGIN:VEVENT
DTSTART;TZID=Europe/Berlin:20260305T080000
DTEND;TZID=Europe/Berlin:20260305T200000
DTSTAMP:20260422T104255
CREATED:20250820T123524Z
LAST-MODIFIED:20250820T123524Z
UID:1088-1772697600-1772740800@buspoint-leipzig.de
SUMMARY:Frauentagsfeier auf dem Schwartenberg
DESCRIPTION:inkl. Busfahrt\, Mittagessen\, super Frauentagsprogramm mit Musik\, Spaß und super Gaudi – super Stimmung\, ein Glas Sekt\, eine Rose und Kaffeetrinken \n71\,00 €
URL:https://buspoint-leipzig.de/event/frauentagsfeier-auf-dem-schwartenberg/
CATEGORIES:Tagesfahrten
END:VEVENT
BEGIN:VEVENT
DTSTART;TZID=Europe/Berlin:20260228T090000
DTEND;TZID=Europe/Berlin:20260228T180000
DTSTAMP:20260422T104255
CREATED:20251111T135451Z
LAST-MODIFIED:20251111T135451Z
UID:1179-1772269200-1772301600@buspoint-leipzig.de
SUMMARY:Gesundheitsbad ACTINON Bad Schlema
DESCRIPTION:inkl. Busfahrt und 3 ½ Stunden Baden \n49\,00 €
URL:https://buspoint-leipzig.de/event/gesundheitsbad-actinon-bad-schlema/
CATEGORIES:Tagesfahrten
END:VEVENT
BEGIN:VEVENT
DTSTART;TZID=Europe/Berlin:20260221T080000
DTEND;TZID=Europe/Berlin:20260221T190000
DTSTAMP:20260422T104255
CREATED:20250820T121617Z
LAST-MODIFIED:20250820T121617Z
UID:1086-1771660800-1771700400@buspoint-leipzig.de
SUMMARY:Bad Muskau
DESCRIPTION:Einkaufsfahrt \n25\,00 €
URL:https://buspoint-leipzig.de/event/bad-muskau-12/
CATEGORIES:Tagesfahrten
END:VEVENT
BEGIN:VEVENT
DTSTART;TZID=Europe/Berlin:20260218T100000
DTEND;TZID=Europe/Berlin:20260218T180000
DTSTAMP:20260422T104255
CREATED:20250820T121541Z
LAST-MODIFIED:20250820T121541Z
UID:1084-1771408800-1771437600@buspoint-leipzig.de
SUMMARY:Valentinstag „Aber bitte mit Sahne“ im Landgasthof Zu den drei Rosen in Winkel
DESCRIPTION:inkl. Busfahrt\, Mittagessen\, Programm Jo Irmscher singt Udo Jürgens\, Kaffeetrinken und Tanz \n76\,00 €
URL:https://buspoint-leipzig.de/event/valentinstag-aber-bitte-mit-sahne-im-landgasthof-zu-den-drei-rosen-in-winkel/
CATEGORIES:Tagesfahrten
END:VEVENT
BEGIN:VEVENT
DTSTART;TZID=Europe/Berlin:20260213T080000
DTEND;TZID=Europe/Berlin:20260213T180000
DTSTAMP:20260422T104255
CREATED:20250820T121417Z
LAST-MODIFIED:20250820T121417Z
UID:1082-1770969600-1771005600@buspoint-leipzig.de
SUMMARY:Johanngeorgenstadt
DESCRIPTION:Einkaufsfahrt \n24\,00 €
URL:https://buspoint-leipzig.de/event/johanngeorgenstadt-11/
CATEGORIES:Tagesfahrten
END:VEVENT
BEGIN:VEVENT
DTSTART;TZID=Europe/Berlin:20260211T090000
DTEND;TZID=Europe/Berlin:20260211T200000
DTSTAMP:20260422T104255
CREATED:20250820T121213Z
LAST-MODIFIED:20250820T121213Z
UID:1080-1770800400-1770840000@buspoint-leipzig.de
SUMMARY:Schlachtefest im Gasthaus und Pension Heiterer Blick in Altendorf
DESCRIPTION:inkl. Busfahrt\, Schlachteschüssel (Wellfleisch\, Rippchen\, Wellwürstchen\,kleine Bratwurst\, Sauerkraut\, Salzkartoffeln\, Kloß)\, Kräuterlikör\, Tanz und Unterhaltung und Kaffeetrinken \n62\,00 €
URL:https://buspoint-leipzig.de/event/schlachtefest-im-gasthaus-und-pension-heiterer-blick-in-altendorf/
CATEGORIES:Tagesfahrten
END:VEVENT
BEGIN:VEVENT
DTSTART;TZID=Europe/Berlin:20260128T090000
DTEND;TZID=Europe/Berlin:20260128T190000
DTSTAMP:20260422T104255
CREATED:20250820T121001Z
LAST-MODIFIED:20250820T121001Z
UID:1078-1769590800-1769626800@buspoint-leipzig.de
SUMMARY:„Böhmischer Winter“ ein Programm zum Mitsingen im Musikhotel Goldener Spatz in Jeßnitz
DESCRIPTION:inkl. Busfahrt\, Mittagessen – original Gulasch mit böhmische Knödel\, Angela und Sohn Florian singen schöne Lieder und Kaffeegedeck \n72\,00 € \n 
URL:https://buspoint-leipzig.de/event/boehmischer-winter-ein-programm-zum-mitsingen-im-musikhotel-goldener-spatz-in-jessnitz/
CATEGORIES:Tagesfahrten
END:VEVENT
BEGIN:VEVENT
DTSTART;TZID=Europe/Berlin:20260124T080000
DTEND;TZID=Europe/Berlin:20260124T190000
DTSTAMP:20260422T104255
CREATED:20250820T120754Z
LAST-MODIFIED:20250820T120754Z
UID:1076-1769241600-1769281200@buspoint-leipzig.de
SUMMARY:Bad Muskau
DESCRIPTION:Einkaufsfahrt \n25\,00 €
URL:https://buspoint-leipzig.de/event/bad-muskau-11/
CATEGORIES:Tagesfahrten
END:VEVENT
BEGIN:VEVENT
DTSTART;TZID=Europe/Berlin:20260124T000000
DTEND;TZID=Europe/Berlin:20260124T000000
DTSTAMP:20260422T104255
CREATED:20250820T120612Z
LAST-MODIFIED:20250820T120612Z
UID:1074-1769212800-1769212800@buspoint-leipzig.de
SUMMARY:Internationale Grüne Woche Berlin
DESCRIPTION:inkl. Busfahrt\, Eintritt und 5 h Aufenthalt \n52\,00 €
URL:https://buspoint-leipzig.de/event/internationale-gruene-woche-berlin/
CATEGORIES:Tagesfahrten
END:VEVENT
BEGIN:VEVENT
DTSTART;TZID=Europe/Berlin:20260116T080000
DTEND;TZID=Europe/Berlin:20260116T180000
DTSTAMP:20260422T104255
CREATED:20250820T120343Z
LAST-MODIFIED:20250820T120343Z
UID:1072-1768550400-1768586400@buspoint-leipzig.de
SUMMARY:Johanngeorgenstadt
DESCRIPTION:Einkaufsfahrt \n24\,00 €
URL:https://buspoint-leipzig.de/event/johanngeorgenstadt-10/
CATEGORIES:Tagesfahrten
END:VEVENT
BEGIN:VEVENT
DTSTART;TZID=Europe/Berlin:20251231T170000
DTEND;TZID=Europe/Berlin:20251231T170000
DTSTAMP:20260422T104255
CREATED:20250708T082604Z
LAST-MODIFIED:20250708T082837Z
UID:1000-1767200400-1767200400@buspoint-leipzig.de
SUMMARY:Silvester im Landgasthof zu den drei Rosen in Winkel
DESCRIPTION:inkl. Busfahrt\, großes Schlemmerbuffet\, Tanz\, Showeinlage\, Knabbereien\, Sektanstoßen\, Großes Silvesterfeuerwerk\, Neujahrsbuffet und Tanz bis 2 Uhr ( all inclusive: Bier\, Wein\, Sekt\, Alkoholfrei\,warme Getränke\, Schnaps\, Mixgetränke) \n\n\n\n125\,00 €
URL:https://buspoint-leipzig.de/event/silvester-im-landgasthof-zu-den-drei-rosen-in-winkel/
CATEGORIES:Tagesfahrten
END:VEVENT
BEGIN:VEVENT
DTSTART;TZID=Europe/Berlin:20251219T080000
DTEND;TZID=Europe/Berlin:20251219T180000
DTSTAMP:20260422T104255
CREATED:20250814T101141Z
LAST-MODIFIED:20250814T101141Z
UID:1064-1766131200-1766167200@buspoint-leipzig.de
SUMMARY:Johanngeorgenstadt
DESCRIPTION:Einkaufsfahrt \n24\,00 €
URL:https://buspoint-leipzig.de/event/johanngeorgenstadt-9/
CATEGORIES:Tagesfahrten
END:VEVENT
BEGIN:VEVENT
DTSTART;TZID=Europe/Berlin:20251218T070000
DTEND;TZID=Europe/Berlin:20251218T190000
DTSTAMP:20260422T104255
CREATED:20250814T101048Z
LAST-MODIFIED:20250814T101048Z
UID:1062-1766041200-1766084400@buspoint-leipzig.de
SUMMARY:Winterlicher Zauber mit der Fichtelbergbahn
DESCRIPTION:inkl. Busfahrt\, Bergbahnfahrt Cranzahl-Oberwiesenthal\, Mittagessen\, Hutzennachmittag und Kaffeegedeck \n80\,00 €
URL:https://buspoint-leipzig.de/event/winterlicher-zauber-mit-der-fichtelbergbahn/
CATEGORIES:Tagesfahrten
END:VEVENT
BEGIN:VEVENT
DTSTART;TZID=Europe/Berlin:20251216T080000
DTEND;TZID=Europe/Berlin:20251216T180000
DTSTAMP:20260422T104255
CREATED:20250708T082449Z
LAST-MODIFIED:20250708T082449Z
UID:998-1765872000-1765908000@buspoint-leipzig.de
SUMMARY:Weihnachtsmarkt Seiffen
DESCRIPTION:inkl. Busfahrt und 5 Stunden Aufenthalt 30\,00 €
URL:https://buspoint-leipzig.de/event/weihnachtsmarkt-seiffen/
CATEGORIES:Tagesfahrten
END:VEVENT
BEGIN:VEVENT
DTSTART;TZID=Europe/Berlin:20251215T090000
DTEND;TZID=Europe/Berlin:20251215T190000
DTSTAMP:20260422T104255
CREATED:20250814T102414Z
LAST-MODIFIED:20250814T102457Z
UID:1066-1765789200-1765825200@buspoint-leipzig.de
SUMMARY:Weihnachten  beginnt in deinem Herzen - ein besinnliches   und stimmungsvolles Weihnachtsprogramm in familiärer Atmosphäre im Landhotel „Zum grünen Baum“ in Oelsnitz
DESCRIPTION:inkl. Busfahrt\, Mittagessen – vogtländische Rinderroulade mit Apfelrotkohl und Klößen\, 1\,5 Std. Konzert mit Silvio \nKuhnert\, 1 Topf Kaffee\, Stollen – und Plätzchenteller \n68\,00 €
URL:https://buspoint-leipzig.de/event/weihnachten-beginnt-in-deinem-herzen-ein-besinnliches-und-stimmungsvolles-weihnachts-programm-in-familiaerer-atmosphaere-im-landhotel-zum-gruenen-baum-in-oelsnitz/
CATEGORIES:Tagesfahrten
END:VEVENT
BEGIN:VEVENT
DTSTART;TZID=Europe/Berlin:20251213T080000
DTEND;TZID=Europe/Berlin:20251213T190000
DTSTAMP:20260422T104255
CREATED:20250814T100938Z
LAST-MODIFIED:20250814T100938Z
UID:1060-1765612800-1765652400@buspoint-leipzig.de
SUMMARY:Bad Muskau
DESCRIPTION:Einkaufsfahrt \n25\,00 €
URL:https://buspoint-leipzig.de/event/bad-muskau-10/
CATEGORIES:Tagesfahrten
END:VEVENT
BEGIN:VEVENT
DTSTART;TZID=Europe/Berlin:20251212T100000
DTEND;TZID=Europe/Berlin:20251212T190000
DTSTAMP:20260422T104255
CREATED:20250814T100837Z
LAST-MODIFIED:20250814T100837Z
UID:1058-1765533600-1765566000@buspoint-leipzig.de
SUMMARY:Schwarzwaldweihnacht mit Schwarzwaldfamilie Seitz im Landhotel Garitz
DESCRIPTION:inkl. Busfahrt\, Mittagessen\, Programm und Kaffeetrinken \n83\,00 €
URL:https://buspoint-leipzig.de/event/schwarzwaldweihnacht-mit-schwarzwaldfamilie-seitz-im-landhotel-garitz/
CATEGORIES:Tagesfahrten
END:VEVENT
BEGIN:VEVENT
DTSTART;TZID=Europe/Berlin:20251210T083000
DTEND;TZID=Europe/Berlin:20251210T200000
DTSTAMP:20260422T104255
CREATED:20250814T100725Z
LAST-MODIFIED:20250814T100725Z
UID:1056-1765355400-1765396800@buspoint-leipzig.de
SUMMARY:Vogtländische Winterträume mit Bad Elster
DESCRIPTION:inkl. Busfahrt\, ganztägige Gästeführung\, Besuch Weihnachtsbaumerlebniswelt\, 1 Glühwein/Punch\, 1 Roster im Brötchen\, Schauvorführung in der Erlebniswerkstatt Musikinstrumentenbau und Kaffeegedeck \n65\,00 €
URL:https://buspoint-leipzig.de/event/vogtlaendische-wintertraeume-mit-bad-elster/
CATEGORIES:Tagesfahrten
END:VEVENT
BEGIN:VEVENT
DTSTART;TZID=Europe/Berlin:20251206T090000
DTEND;TZID=Europe/Berlin:20251206T190000
DTSTAMP:20260422T104255
CREATED:20250708T082355Z
LAST-MODIFIED:20250708T082355Z
UID:996-1765011600-1765047600@buspoint-leipzig.de
SUMMARY:Advent in den Höfen Quedlinburg
DESCRIPTION:inkl. Busfahrt und 5 Stunden Aufenthalt \n\n\n\n30\,00 €
URL:https://buspoint-leipzig.de/event/advent-in-den-hoefen-quedlinburg/
CATEGORIES:Tagesfahrten
END:VEVENT
END:VCALENDAR